BEGIN:VCALENDAR
VERSION:2.0
PRODID:-//Tactical Advantage - ECPv6.15.20//NONSGML v1.0//EN
CALSCALE:GREGORIAN
METHOD:PUBLISH
X-WR-CALNAME:Tactical Advantage
X-ORIGINAL-URL:https://tacticaladvantagemn.com
X-WR-CALDESC:Events for Tactical Advantage
REFRESH-INTERVAL;VALUE=DURATION:PT1H
X-Robots-Tag:noindex
X-PUBLISHED-TTL:PT1H
BEGIN:VTIMEZONE
TZID:UTC
BEGIN:STANDARD
TZOFFSETFROM:+0000
TZOFFSETTO:+0000
TZNAME:UTC
DTSTART:20240101T000000
END:STANDARD
END:VTIMEZONE
BEGIN:VTIMEZONE
TZID:America/Chicago
BEGIN:DAYLIGHT
TZOFFSETFROM:-0600
TZOFFSETTO:-0500
TZNAME:CDT
DTSTART:20240310T080000
END:DAYLIGHT
BEGIN:STANDARD
TZOFFSETFROM:-0500
TZOFFSETTO:-0600
TZNAME:CST
DTSTART:20241103T070000
END:STANDARD
BEGIN:DAYLIGHT
TZOFFSETFROM:-0600
TZOFFSETTO:-0500
TZNAME:CDT
DTSTART:20250309T080000
END:DAYLIGHT
BEGIN:STANDARD
TZOFFSETFROM:-0500
TZOFFSETTO:-0600
TZNAME:CST
DTSTART:20251102T070000
END:STANDARD
BEGIN:DAYLIGHT
TZOFFSETFROM:-0600
TZOFFSETTO:-0500
TZNAME:CDT
DTSTART:20260308T080000
END:DAYLIGHT
BEGIN:STANDARD
TZOFFSETFROM:-0500
TZOFFSETTO:-0600
TZNAME:CST
DTSTART:20261101T070000
END:STANDARD
END:VTIMEZONE
BEGIN:VEVENT
DTSTART;VALUE=DATE:20250811
DTEND;VALUE=DATE:20250817
DTSTAMP:20260422T063253
CREATED:20250801T035314Z
LAST-MODIFIED:20250801T035314Z
UID:9452-1754870400-1755388799@tacticaladvantagemn.com
SUMMARY:22 Rimfire Summer Challenge - Week 2
DESCRIPTION:– \nGreat opportunity for junior shooters\, new shooters\, or simply those who love to shoot 22 LR! \nWe will have a different fun summer challenge geared around National Shooting Sports Month for the first three weeks in August.  Come in anytime during business hours each week and we will set you up with the course of fire.  Shoot at your pace\, on your schedule\, or come on Thursdays at 1:00 if you prefer the social/league atmosphere. (rifle or pistol allowed) \nBring a friend and join us in this fun summer challenge – prizes will be awarded. \nCall or stop in for more details!
URL:https://tacticaladvantagemn.com/event/22-rimfire-summer-challenge-week-2/
LOCATION:Tactical Advantage\, 521 10th Avenue South\, Waite Park\, MN\, 56387\, United States
END:VEVENT
BEGIN:VEVENT
DTSTART;TZID=America/Chicago:20250813T160000
DTEND;TZID=America/Chicago:20250813T190000
DTSTAMP:20260422T063253
CREATED:20250729T185620Z
LAST-MODIFIED:20250729T185620Z
UID:9435-1755100800-1755111600@tacticaladvantagemn.com
SUMMARY:Intro to Handgun Class
DESCRIPTION:This is at least a 2.5-3-hour course where students will learn about the most common/popular type of handgun platform and function as well as practical storage\, handling and practicing techniques that you can put to use in your home and at the range. Our focus is always on personal safety. Students will be taught firearm safety rules\, primary causes of firearm accidents\, handgun components\, safe storage options and basic shooting fundamentals. Whether you are considering a possible future purchase\, or you already have firearms in your home; you need to be comfortable and knowledgeable in order to be safe. We finish the class with students shooting 20 rounds from a .22 caliber pistol on the range. Students are encouraged to provide their own ear and eye protection. Students under 18 years of age must be accompanied by a registered/paid guardian in the same class. Students must be at least 12 years of age. \nCost is $60 plus tax.
URL:https://tacticaladvantagemn.com/event/intro-to-handgun-class-8/
LOCATION:Tactical Advantage\, 521 10th Avenue South\, Waite Park\, MN\, 56387\, United States
END:VEVENT
END:VCALENDAR